BEGIN:VCALENDAR
VERSION:2.0
PRODID:-//White Oak Conference Center - ECPv6.15.20//NONSGML v1.0//EN
CALSCALE:GREGORIAN
METHOD:PUBLISH
X-WR-CALNAME:White Oak Conference Center
X-ORIGINAL-URL:https://www.whiteoakconferencecenter.com
X-WR-CALDESC:Events for White Oak Conference Center
REFRESH-INTERVAL;VALUE=DURATION:PT1H
X-Robots-Tag:noindex
X-PUBLISHED-TTL:PT1H
BEGIN:VTIMEZONE
TZID:America/Chicago
BEGIN:DAYLIGHT
TZOFFSETFROM:-0600
TZOFFSETTO:-0500
TZNAME:CDT
DTSTART:20250309T080000
END:DAYLIGHT
BEGIN:STANDARD
TZOFFSETFROM:-0500
TZOFFSETTO:-0600
TZNAME:CST
DTSTART:20251102T070000
END:STANDARD
BEGIN:DAYLIGHT
TZOFFSETFROM:-0600
TZOFFSETTO:-0500
TZNAME:CDT
DTSTART:20260308T080000
END:DAYLIGHT
BEGIN:STANDARD
TZOFFSETFROM:-0500
TZOFFSETTO:-0600
TZNAME:CST
DTSTART:20261101T070000
END:STANDARD
BEGIN:DAYLIGHT
TZOFFSETFROM:-0600
TZOFFSETTO:-0500
TZNAME:CDT
DTSTART:20270314T080000
END:DAYLIGHT
BEGIN:STANDARD
TZOFFSETFROM:-0500
TZOFFSETTO:-0600
TZNAME:CST
DTSTART:20271107T070000
END:STANDARD
END:VTIMEZONE
BEGIN:VEVENT
DTSTART;VALUE=DATE:20260523
DTEND;VALUE=DATE:20260908
DTSTAMP:20260423T034940
CREATED:20250929T165717Z
LAST-MODIFIED:20260422T213115Z
UID:10000017-1779494400-1788825599@www.whiteoakconferencecenter.com
SUMMARY:White Oak Pool and Pavilion 2026 Swim Season
DESCRIPTION:White Oak 2026 Pool Memberships  Available NOW!\nOffering a lap lane for serious swimmers\, the pool is a great way to stay fit during the hot summer months. Or relax in the shade poolside and enjoy a good book set to the sounds of summer fun. \n\n25′ outdoor pool with dedicated lap lane\nPatio tables\, chairs and chaise lounges\nPalm trees and umbrellas for shade\nTwo pavilions with 10′ picnic tables beneath shaded pergola\n\nGet your membership today!\nContact Alex at 713-895-8021 or register online. \nDay passes are available for a one-time visit for $10 per person. \nRegular Pool Hours for 2026 (May 31 – Aug. 9\, 2026):\nOpen daily: Tuesday to Sunday\, 1:00–8:00 p.m. \nClosed on Mondays (except for holiday hours listed below) \n2026 Open Holidays (during our regular hours) \n\nMemorial Day Weekend: Saturday\, May 23\, 2026 to Monday\, May 25\, 2026\, 1:00 p.m. – 8:00 p.m.\nLabor Day Weekend: Monday\, September 7\, 2026\, 1:00 p.m. – 8:00 p.m.\n\nFall Hours for 2026 (Aug. 11 – Sept. 7\, 2026):\nOpen Daily:\nTuesday to Friday\, 5:00 p.m. – 8:00 p.m.\nSaturday to Sunday\, 1:00 p.m. – 8:00 p.m. \nClosed on Mondays (except for holiday hours) \n\n\n\n\n\n\nMembership Type\nPrice\n\n\nGroup Membership (up to four persons)\n$340\n\n\n\nIndividual Membership\n$125\n\n\nAdditional Members\n$50 each\n\n\nDay Pass*exact cash only\n$10\n\n\n\n\n\n \n\nRegister online here.
URL:https://www.whiteoakconferencecenter.com/event/white-oak-pool-and-pavilion-2026-swim-season/
LOCATION:White Oak Conference Center\, 7603 Antoine Drive\, Houston\, TX\, 77088\, United States
ATTACH;FMTTYPE=image/jpeg:https://www.whiteoakconferencecenter.com/wp-content/uploads/2017/04/Depositphotos_26967957_m-2015.jpg
END:VEVENT
END:VCALENDAR